Package: stepNorm Version: 1.82.0 Maintainer: Yuanyuan Xiao MaintainerEmail: yxiao at itsa.ucsf.edu git_url: https://git.bioconductor.org/packages/stepNorm git_branch: RELEASE_3_22 git_last_commit: 8e8d3d5 git_last_commit_date: 2025-10-29 09:55:38 -0500 (Wed, 29 Oct 2025)