Package: statTarget Version: 1.39.0 Command: /home/biocbuild/bbs-3.22-bioc/R/bin/R CMD INSTALL statTarget StartedAt: 2025-10-24 15:21:22 -0400 (Fri, 24 Oct 2025) EndedAt: 2025-10-24 15:21:32 -0400 (Fri, 24 Oct 2025) EllapsedTime: 10.1 seconds RetCode: 0 Status: OK