Package: statTarget Version: 1.39.0 Command: /Library/Frameworks/R.framework/Resources/bin/R CMD INSTALL statTarget StartedAt: 2025-10-28 15:06:12 -0400 (Tue, 28 Oct 2025) EndedAt: 2025-10-28 15:06:15 -0400 (Tue, 28 Oct 2025) EllapsedTime: 2.9 seconds RetCode: 0 Status: OK