Package: statTarget Version: 1.40.0 Command: /Library/Frameworks/R.framework/Resources/bin/R CMD build --keep-empty-dirs --no-resave-data statTarget StartedAt: 2025-10-30 00:20:17 -0400 (Thu, 30 Oct 2025) EndedAt: 2025-10-30 00:20:22 -0400 (Thu, 30 Oct 2025) EllapsedTime: 5.1 seconds RetCode: 0 Status: OK PackageFile: statTarget_1.40.0.tar.gz PackageFileSize: 779.1 KiB