Package: standR Version: 1.13.0 Command: /home/biocbuild/bbs-3.22-bioc/R/bin/R CMD build --keep-empty-dirs --no-resave-data --md5 standR StartedAt: 2025-10-24 20:29:49 -0400 (Fri, 24 Oct 2025) EndedAt: 2025-10-24 20:31:21 -0400 (Fri, 24 Oct 2025) EllapsedTime: 92.1 seconds RetCode: 0 Status: OK PackageFile: standR_1.13.0.tar.gz PackageFileSize: 2.443 MiB