Package: ssrch Version: 1.26.0 Command: /home/biocbuild/bbs-3.22-bioc/R/bin/R CMD INSTALL ssrch StartedAt: 2025-11-17 16:59:19 -0500 (Mon, 17 Nov 2025) EndedAt: 2025-11-17 16:59:23 -0500 (Mon, 17 Nov 2025) EllapsedTime: 4.5 seconds RetCode: 0 Status: OK