Package: ssize Version: 1.84.0 Command: /Library/Frameworks/R.framework/Resources/bin/R CMD build --keep-empty-dirs --no-resave-data ssize StartedAt: 2025-11-03 18:58:59 -0500 (Mon, 03 Nov 2025) EndedAt: 2025-11-03 18:59:10 -0500 (Mon, 03 Nov 2025) EllapsedTime: 11.4 seconds RetCode: 0 Status: OK PackageFile: ssize_1.84.0.tar.gz PackageFileSize: 544.5 KiB