Package: ssPATHS Version: 1.24.0 Command: /Library/Frameworks/R.framework/Resources/bin/R CMD INSTALL ssPATHS StartedAt: 2025-10-31 15:17:47 -0400 (Fri, 31 Oct 2025) EndedAt: 2025-10-31 15:17:57 -0400 (Fri, 31 Oct 2025) EllapsedTime: 10.2 seconds RetCode: 0 Status: OK