Package: ssPATHS Version: 1.24.0 Command: rm -rf ssPATHS.buildbin-libdir && mkdir ssPATHS.buildbin-libdir && /Users/biocbuild/BBS/utils/build-universal.sh ssPATHS_1.24.0.tar.gz /Library/Frameworks/R.framework/Resources/bin/R ssPATHS.buildbin-libdir StartedAt: 2025-10-31 23:25:26 -0400 (Fri, 31 Oct 2025) EndedAt: 2025-10-31 23:25:37 -0400 (Fri, 31 Oct 2025) EllapsedTime: 11.2 seconds RetCode: 0 Status: OK PackageFile: ssPATHS_1.24.0.tgz PackageFileSize: 3.705 MiB