Package: srnadiff Version: 1.29.1 Command: /home/biocbuild/bbs-3.22-bioc/R/bin/R CMD INSTALL srnadiff StartedAt: 2025-10-27 15:55:23 -0400 (Mon, 27 Oct 2025) EndedAt: 2025-10-27 15:56:36 -0400 (Mon, 27 Oct 2025) EllapsedTime: 73.5 seconds RetCode: 0 Status: OK