Package: spoon Version: 1.6.0 Command: /home/biocbuild/bbs-3.22-bioc/R/bin/R CMD INSTALL spoon StartedAt: 2025-11-20 16:14:11 -0500 (Thu, 20 Nov 2025) EndedAt: 2025-11-20 16:14:37 -0500 (Thu, 20 Nov 2025) EllapsedTime: 25.8 seconds RetCode: 0 Status: OK