Package: splineTimeR Version: 1.37.0 Command: /home/biocbuild/bbs-3.22-bioc/R/bin/R CMD INSTALL splineTimeR StartedAt: 2025-10-24 15:40:26 -0400 (Fri, 24 Oct 2025) EndedAt: 2025-10-24 15:40:41 -0400 (Fri, 24 Oct 2025) EllapsedTime: 15.5 seconds RetCode: 0 Status: OK