Package: splineTimeR Version: 1.38.0 Command: /Library/Frameworks/R.framework/Resources/bin/R CMD INSTALL splineTimeR StartedAt: 2025-10-31 15:13:34 -0400 (Fri, 31 Oct 2025) EndedAt: 2025-10-31 15:13:41 -0400 (Fri, 31 Oct 2025) EllapsedTime: 6.3 seconds RetCode: 0 Status: OK