Package: splineTimeR Version: 1.38.0 Command: /Library/Frameworks/R.framework/Resources/bin/R CMD build --keep-empty-dirs --no-resave-data splineTimeR StartedAt: 2025-10-31 17:56:02 -0400 (Fri, 31 Oct 2025) EndedAt: 2025-10-31 17:56:21 -0400 (Fri, 31 Oct 2025) EllapsedTime: 19.2 seconds RetCode: 0 Status: OK PackageFile: splineTimeR_1.38.0.tar.gz PackageFileSize: 1.229 MiB