Package: splineTimeR Version: 1.38.0 Command: rm -rf splineTimeR.buildbin-libdir && mkdir splineTimeR.buildbin-libdir && /Users/biocbuild/BBS/utils/build-universal.sh splineTimeR_1.38.0.tar.gz /Library/Frameworks/R.framework/Resources/bin/R splineTimeR.buildbin-libdir StartedAt: 2025-10-31 23:25:10 -0400 (Fri, 31 Oct 2025) EndedAt: 2025-10-31 23:25:18 -0400 (Fri, 31 Oct 2025) EllapsedTime: 7.1 seconds RetCode: 0 Status: OK PackageFile: splineTimeR_1.38.0.tgz PackageFileSize: 1.272 MiB