Package: splatter Version: 1.34.0 Command: /home/biocbuild/bbs-3.22-bioc/R/bin/R CMD INSTALL splatter StartedAt: 2025-11-17 17:28:24 -0500 (Mon, 17 Nov 2025) EndedAt: 2025-11-17 17:28:54 -0500 (Mon, 17 Nov 2025) EllapsedTime: 30.4 seconds RetCode: 0 Status: OK