Package: spkTools Version: 1.65.0 Command: /home/biocbuild/R/R/bin/R CMD INSTALL spkTools StartedAt: 2025-10-23 20:32:19 -0000 (Thu, 23 Oct 2025) EndedAt: 2025-10-23 20:32:25 -0000 (Thu, 23 Oct 2025) EllapsedTime: 5.9 seconds RetCode: 0 Status: OK