Package: spkTools Version: 1.66.0 Command: /Library/Frameworks/R.framework/Resources/bin/R CMD check --install=check:spkTools.install-out.txt --library=/Library/Frameworks/R.framework/Resources/library --no-vignettes --timings spkTools_1.66.0.tar.gz StartedAt: 2025-11-04 00:32:36 -0500 (Tue, 04 Nov 2025) EndedAt: 2025-11-04 00:34:14 -0500 (Tue, 04 Nov 2025) EllapsedTime: 98.5 seconds RetCode: 0 Status: OK CheckDir: spkTools.Rcheck Warnings: 0