Package: spkTools Version: 1.65.0 Command: /Library/Frameworks/R.framework/Resources/bin/R CMD build --keep-empty-dirs --no-resave-data spkTools StartedAt: 2025-10-24 18:55:35 -0400 (Fri, 24 Oct 2025) EndedAt: 2025-10-24 18:55:52 -0400 (Fri, 24 Oct 2025) EllapsedTime: 17.1 seconds RetCode: 0 Status: OK PackageFile: spkTools_1.65.0.tar.gz PackageFileSize: 663.4 KiB