Package: spillR Version: 1.5.0 Command: /home/biocbuild/bbs-3.22-bioc/R/bin/R CMD build --keep-empty-dirs --no-resave-data --md5 spillR StartedAt: 2025-10-24 20:24:56 -0400 (Fri, 24 Oct 2025) EndedAt: 2025-10-24 20:27:03 -0400 (Fri, 24 Oct 2025) EllapsedTime: 127.1 seconds RetCode: 0 Status: OK PackageFile: spillR_1.5.0.tar.gz PackageFileSize: 429.1 KiB