Package: spiky Version: 1.16.0 Command: /home/biocbuild/bbs-3.22-bioc/R/bin/R CMD INSTALL spiky StartedAt: 2025-11-03 15:33:57 -0500 (Mon, 03 Nov 2025) EndedAt: 2025-11-03 15:34:38 -0500 (Mon, 03 Nov 2025) EllapsedTime: 40.8 seconds RetCode: 0 Status: OK