Package: spiky Version: 1.16.0 Command: /home/biocbuild/bbs-3.22-bioc/R/bin/R CMD build --keep-empty-dirs --no-resave-data --md5 spiky StartedAt: 2025-11-02 20:32:20 -0500 (Sun, 02 Nov 2025) EndedAt: 2025-11-02 20:33:56 -0500 (Sun, 02 Nov 2025) EllapsedTime: 96.1 seconds RetCode: 0 Status: OK PackageFile: spiky_1.16.0.tar.gz PackageFileSize: 14.31 MiB