Package: spicyR Version: 1.21.9 Command: /home/biocbuild/bbs-3.22-bioc/R/bin/R CMD build --keep-empty-dirs --no-resave-data --md5 spicyR StartedAt: 2025-10-24 20:24:44 -0400 (Fri, 24 Oct 2025) EndedAt: 2025-10-24 20:29:38 -0400 (Fri, 24 Oct 2025) EllapsedTime: 294.2 seconds RetCode: 0 Status: OK PackageFile: spicyR_1.21.9.tar.gz PackageFileSize: 3.149 MiB