Package: speckle Version: 1.9.1 Command: /home/biocbuild/bbs-3.22-bioc/R/bin/R CMD INSTALL speckle StartedAt: 2025-10-27 15:26:02 -0400 (Mon, 27 Oct 2025) EndedAt: 2025-10-27 15:26:39 -0400 (Mon, 27 Oct 2025) EllapsedTime: 36.3 seconds RetCode: 0 Status: OK