Package: specL Version: 1.43.0 Command: /Library/Frameworks/R.framework/Resources/bin/R CMD build --keep-empty-dirs --no-resave-data specL StartedAt: 2025-10-24 17:51:08 -0400 (Fri, 24 Oct 2025) EndedAt: 2025-10-24 17:51:18 -0400 (Fri, 24 Oct 2025) EllapsedTime: 10.1 seconds RetCode: 0 Status: OK PackageFile: specL_1.43.0.tar.gz PackageFileSize: 2.059 MiB