Package: specL Version: 1.43.0 Command: rm -rf specL.buildbin-libdir && mkdir specL.buildbin-libdir && /Users/biocbuild/BBS/utils/build-universal.sh specL_1.43.0.tar.gz /Library/Frameworks/R.framework/Resources/bin/R specL.buildbin-libdir StartedAt: 2025-10-24 23:21:07 -0400 (Fri, 24 Oct 2025) EndedAt: 2025-10-24 23:21:10 -0400 (Fri, 24 Oct 2025) EllapsedTime: 3.0 seconds RetCode: 0 Status: OK PackageFile: specL_1.43.0.tgz PackageFileSize: 2.351 MiB