Package: spatialSimGP Version: 1.3.0 Command: /home/biocbuild/R/R/bin/R CMD INSTALL spatialSimGP StartedAt: 2025-10-23 20:56:48 -0000 (Thu, 23 Oct 2025) EndedAt: 2025-10-23 20:57:16 -0000 (Thu, 23 Oct 2025) EllapsedTime: 28.5 seconds RetCode: 0 Status: OK