Package: spatialSimGP Version: 1.3.0 Command: /Library/Frameworks/R.framework/Resources/bin/R CMD build --keep-empty-dirs --no-resave-data spatialSimGP StartedAt: 2025-10-24 17:50:48 -0400 (Fri, 24 Oct 2025) EndedAt: 2025-10-24 17:51:15 -0400 (Fri, 24 Oct 2025) EllapsedTime: 27.3 seconds RetCode: 0 Status: OK PackageFile: spatialSimGP_1.3.0.tar.gz PackageFileSize: 734.4 KiB