Package: spatialHeatmap Version: 2.15.2 Command: /home/biocbuild/R/R/bin/R CMD INSTALL spatialHeatmap StartedAt: 2025-10-23 20:55:58 -0000 (Thu, 23 Oct 2025) EndedAt: 2025-10-23 20:56:53 -0000 (Thu, 23 Oct 2025) EllapsedTime: 54.8 seconds RetCode: 0 Status: OK