Package: spatialHeatmap Version: 2.15.2 Command: /home/biocbuild/R/R/bin/R CMD build --keep-empty-dirs --no-resave-data spatialHeatmap StartedAt: 2025-10-21 03:22:18 -0000 (Tue, 21 Oct 2025) EndedAt: 2025-10-21 03:29:17 -0000 (Tue, 21 Oct 2025) EllapsedTime: 419.1 seconds RetCode: 0 Status: OK PackageFile: spatialHeatmap_2.15.2.tar.gz PackageFileSize: 28.09 MiB