Package: spatialHeatmap Version: 2.15.2 Command: /home/biocbuild/bbs-3.22-bioc/R/bin/R CMD build --keep-empty-dirs --no-resave-data --md5 spatialHeatmap StartedAt: 2025-10-24 20:22:50 -0400 (Fri, 24 Oct 2025) EndedAt: 2025-10-24 20:26:53 -0400 (Fri, 24 Oct 2025) EllapsedTime: 243.2 seconds RetCode: 1 Status: ERROR PackageFile: None PackageFileSize: NA