Package: spatialHeatmap Version: 2.15.2 Command: /Library/Frameworks/R.framework/Resources/bin/R CMD INSTALL spatialHeatmap StartedAt: 2025-10-26 15:17:59 -0400 (Sun, 26 Oct 2025) EndedAt: 2025-10-26 15:18:15 -0400 (Sun, 26 Oct 2025) EllapsedTime: 16.1 seconds RetCode: 0 Status: OK