Package: spatialHeatmap Version: 2.15.2 Command: /Library/Frameworks/R.framework/Resources/bin/R CMD build --keep-empty-dirs --no-resave-data spatialHeatmap StartedAt: 2025-10-27 17:49:26 -0400 (Mon, 27 Oct 2025) EndedAt: 2025-10-27 17:51:26 -0400 (Mon, 27 Oct 2025) EllapsedTime: 120.3 seconds RetCode: 0 Status: OK PackageFile: spatialHeatmap_2.15.2.tar.gz PackageFileSize: 35.32 MiB