Package: spatialHeatmap Version: 2.15.2 Command: rm -rf spatialHeatmap.buildbin-libdir && mkdir spatialHeatmap.buildbin-libdir && /Users/biocbuild/BBS/utils/build-universal.sh spatialHeatmap_2.15.2.tar.gz /Library/Frameworks/R.framework/Resources/bin/R spatialHeatmap.buildbin-libdir StartedAt: 2025-10-26 22:49:10 -0400 (Sun, 26 Oct 2025) EndedAt: 2025-10-26 22:49:30 -0400 (Sun, 26 Oct 2025) EllapsedTime: 19.4 seconds RetCode: 0 Status: OK PackageFile: spatialHeatmap_2.15.2.tgz PackageFileSize: 35.07 MiB