Package: spatialHeatmap Version: 2.15.2 Maintainer: Jianhai Zhang MaintainerEmail: jzhan067 at ucr.edu git_url: https://git.bioconductor.org/packages/spatialHeatmap git_branch: devel git_last_commit: 478e1ab git_last_commit_date: 2025-10-14 15:01:03 -0400 (Tue, 14 Oct 2025)