Package: spatialFDA Version: 1.1.21 Command: /home/biocbuild/R/R/bin/R CMD INSTALL spatialFDA StartedAt: 2025-10-23 20:50:08 -0000 (Thu, 23 Oct 2025) EndedAt: 2025-10-23 20:50:52 -0000 (Thu, 23 Oct 2025) EllapsedTime: 44.0 seconds RetCode: 0 Status: OK