Package: spatialFDA Version: 1.1.21 Command: /home/biocbuild/R/R/bin/R CMD build --keep-empty-dirs --no-resave-data spatialFDA StartedAt: 2025-10-21 03:21:45 -0000 (Tue, 21 Oct 2025) EndedAt: 2025-10-21 03:29:48 -0000 (Tue, 21 Oct 2025) EllapsedTime: 483.2 seconds RetCode: 0 Status: OK PackageFile: spatialFDA_1.1.21.tar.gz PackageFileSize: 2.582 MiB