Package: spatialFDA Version: 1.1.21 Command: /home/biocbuild/bbs-3.22-bioc/R/bin/R CMD INSTALL spatialFDA StartedAt: 2025-10-24 15:38:01 -0400 (Fri, 24 Oct 2025) EndedAt: 2025-10-24 15:38:34 -0400 (Fri, 24 Oct 2025) EllapsedTime: 32.7 seconds RetCode: 0 Status: OK