Package: spatialFDA Version: 1.1.21 Command: /home/biocbuild/bbs-3.22-bioc/R/bin/R CMD check --install=check:spatialFDA.install-out.txt --library=/home/biocbuild/bbs-3.22-bioc/R/site-library --timings spatialFDA_1.1.21.tar.gz StartedAt: 2025-10-25 04:27:46 -0400 (Sat, 25 Oct 2025) EndedAt: 2025-10-25 04:45:05 -0400 (Sat, 25 Oct 2025) EllapsedTime: 1039.9 seconds RetCode: 0 Status: OK CheckDir: spatialFDA.Rcheck Warnings: 0