Package: spatialFDA Version: 1.1.21 Command: /home/biocbuild/bbs-3.22-bioc/R/bin/R CMD build --keep-empty-dirs --no-resave-data --md5 spatialFDA StartedAt: 2025-10-24 20:22:46 -0400 (Fri, 24 Oct 2025) EndedAt: 2025-10-24 20:29:00 -0400 (Fri, 24 Oct 2025) EllapsedTime: 374.3 seconds RetCode: 0 Status: OK PackageFile: spatialFDA_1.1.21.tar.gz PackageFileSize: 6.146 MiB