Package: spatialFDA Version: 1.1.21 Command: /Library/Frameworks/R.framework/Resources/bin/R CMD build --keep-empty-dirs --no-resave-data spatialFDA StartedAt: 2025-10-24 18:53:33 -0400 (Fri, 24 Oct 2025) EndedAt: 2025-10-24 19:00:52 -0400 (Fri, 24 Oct 2025) EllapsedTime: 439.2 seconds RetCode: 0 Status: OK PackageFile: spatialFDA_1.1.21.tar.gz PackageFileSize: 6.858 MiB