Package: spatialFDA Version: 1.1.21 Command: /Library/Frameworks/R.framework/Resources/bin/R CMD INSTALL spatialFDA StartedAt: 2025-10-24 15:17:09 -0400 (Fri, 24 Oct 2025) EndedAt: 2025-10-24 15:17:23 -0400 (Fri, 24 Oct 2025) EllapsedTime: 14.2 seconds RetCode: 0 Status: OK