Package: spatialFDA Version: 1.1.21 Command: /Library/Frameworks/R.framework/Resources/bin/R CMD build --keep-empty-dirs --no-resave-data spatialFDA StartedAt: 2025-10-24 17:50:27 -0400 (Fri, 24 Oct 2025) EndedAt: 2025-10-24 17:53:32 -0400 (Fri, 24 Oct 2025) EllapsedTime: 185.0 seconds RetCode: 0 Status: OK PackageFile: spatialFDA_1.1.21.tar.gz PackageFileSize: 6.871 MiB