Package: spatialFDA Version: 1.1.21 Maintainer: Martin Emons MaintainerEmail: martin.emons at uzh.ch git_url: https://git.bioconductor.org/packages/spatialFDA git_branch: devel git_last_commit: 93358c0 git_last_commit_date: 2025-10-10 07:08:16 -0400 (Fri, 10 Oct 2025)