Package: spatialDE Version: 1.15.1 Command: /home/biocbuild/bbs-3.22-bioc/R/bin/R CMD INSTALL spatialDE StartedAt: 2025-10-27 16:03:26 -0400 (Mon, 27 Oct 2025) EndedAt: 2025-10-27 16:03:45 -0400 (Mon, 27 Oct 2025) EllapsedTime: 19.1 seconds RetCode: 0 Status: OK