Package: spatialDE Version: 1.16.0 Command: /Library/Frameworks/R.framework/Resources/bin/R CMD INSTALL spatialDE StartedAt: 2025-11-10 15:32:26 -0500 (Mon, 10 Nov 2025) EndedAt: 2025-11-10 15:32:35 -0500 (Mon, 10 Nov 2025) EllapsedTime: 9.2 seconds RetCode: 0 Status: OK