Package: sparseMatrixStats Version: 1.21.0 Command: /Library/Frameworks/R.framework/Resources/bin/R CMD INSTALL sparseMatrixStats StartedAt: 2025-10-24 15:15:02 -0400 (Fri, 24 Oct 2025) EndedAt: 2025-10-24 15:15:26 -0400 (Fri, 24 Oct 2025) EllapsedTime: 23.7 seconds RetCode: 0 Status: OK