Package: sparseMatrixStats Version: 1.21.0 Command: /Library/Frameworks/R.framework/Resources/bin/R CMD build --keep-empty-dirs --no-resave-data sparseMatrixStats StartedAt: 2025-10-24 18:52:58 -0400 (Fri, 24 Oct 2025) EndedAt: 2025-10-24 18:53:33 -0400 (Fri, 24 Oct 2025) EllapsedTime: 34.3 seconds RetCode: 0 Status: OK PackageFile: sparseMatrixStats_1.21.0.tar.gz PackageFileSize: 687.6 KiB