Package: sparseMatrixStats Version: 1.21.0 Command: rm -rf sparseMatrixStats.buildbin-libdir && mkdir sparseMatrixStats.buildbin-libdir && /Users/biocbuild/BBS/utils/build-universal.sh sparseMatrixStats_1.21.0.tar.gz /Library/Frameworks/R.framework/Resources/bin/R sparseMatrixStats.buildbin-libdir StartedAt: 2025-10-25 02:05:55 -0400 (Sat, 25 Oct 2025) EndedAt: 2025-10-25 02:06:30 -0400 (Sat, 25 Oct 2025) EllapsedTime: 34.6 seconds RetCode: 0 Status: OK PackageFile: sparseMatrixStats_1.21.0.tgz PackageFileSize: 1.144 MiB