Package: sparrow Version: 1.15.0 Command: /home/biocbuild/bbs-3.22-bioc/R/bin/R CMD INSTALL sparrow StartedAt: 2025-10-27 15:32:42 -0400 (Mon, 27 Oct 2025) EndedAt: 2025-10-27 15:33:13 -0400 (Mon, 27 Oct 2025) EllapsedTime: 31.2 seconds RetCode: 0 Status: OK